BEGIN:VCALENDAR
VERSION:2.0
PRODID:SchoolNow
CALSCALE:GREGORIAN
BEGIN:VEVENT
UID:b8ae8658-9658-11ec-984c-0e51fa75b497
DTSTAMP:20220225T163354Z
SUMMARY:4th Gr End of Year Picnic
LOCATION:Stevenson Park\, 49 Lake St\, Oak Park\, IL 60302\, USA
URL;VALUE=URI:https://www.op97.org/beye/calendar/3116276/4th-gr-end-of-year
 -picnic
DTSTART:20220603T140000Z
DTEND:20220603T190000Z
END:VEVENT
END:VCALENDAR
