BEGIN:VCALENDAR
VERSION:2.0
PRODID:SchoolNow
CALSCALE:GREGORIAN
BEGIN:VEVENT
UID:056eb8f0-9659-11ec-997a-0e51fa75b497
DTSTAMP:20220225T163602Z
SUMMARY:3rd Gr End of Year Picnic
LOCATION:Stevenson Park\, 49 Lake St\, Oak Park\, IL 60302\, USA
URL;VALUE=URI:https://www.op97.org/beye/calendar/3116277/3rd-gr-end-of-year
 -picnic
DTSTART:20220606T133000Z
DTEND:20220606T193000Z
END:VEVENT
END:VCALENDAR
