BEGIN:VCALENDAR
VERSION:2.0
PRODID:SchoolNow
CALSCALE:GREGORIAN
BEGIN:VEVENT
UID:3407646e-9659-11ec-87fa-0e51fa75b497
DTSTAMP:20220225T163721Z
SUMMARY:5th Gr End of Year Picnic
LOCATION:Stevenson Park\, 49 Lake St\, Oak Park\, IL 60302\, USA
URL;VALUE=URI:https://www.op97.org/beye/calendar/3116278/5th-gr-end-of-year
 -picnic
DTSTART:20220607T140000Z
DTEND:20220607T190000Z
END:VEVENT
END:VCALENDAR
