BEGIN:VCALENDAR
VERSION:2.0
PRODID:SchoolNow
CALSCALE:GREGORIAN
BEGIN:VEVENT
UID:a6c907dc-9659-11ec-b0c3-0e51fa75b497
DTSTAMP:20220225T164033Z
SUMMARY:2nd Gr End of Year Picnic
LOCATION:Andersen Park\, 824 Hayes Ave\, Oak Park\, IL 60302\, USA
URL;VALUE=URI:https://www.op97.org/beye/calendar/3116279/2nd-gr-end-of-year
 -picnic
DTSTART:20220606T140000Z
DTEND:20220606T190000Z
END:VEVENT
END:VCALENDAR
