BEGIN:VCALENDAR
VERSION:2.0
PRODID:SchoolNow
CALSCALE:GREGORIAN
BEGIN:VEVENT
UID:ed1ca59e-9899-11ec-b6c7-0eb09cc7d517
DTSTAMP:20220228T132541Z
SUMMARY:2nd Grade Meet-Up
LOCATION:Stevenson Park  49 Lake St\, Oak Park\, IL 60302
URL;VALUE=URI:https://www.op97.org/beye/calendar/3118677/2nd-grade-meet-up
DTSTART:20220319T150000Z
DTEND:20220319T170000Z
END:VEVENT
END:VCALENDAR
