BEGIN:VCALENDAR
VERSION:2.0
PRODID:SchoolNow
CALSCALE:GREGORIAN
BEGIN:VEVENT
UID:1cc96534-989a-11ec-8e54-0eb09cc7d517
DTSTAMP:20220228T132701Z
SUMMARY:1st Gr Meet-Up
LOCATION:Stevenson Park  49 Lake St\, Oak Park\, IL 60302
URL;VALUE=URI:https://www.op97.org/beye/calendar/3118679/1st-gr-meet-up
DTSTART:20220320T150000Z
DTEND:20220320T170000Z
END:VEVENT
END:VCALENDAR
