BEGIN:VCALENDAR
VERSION:2.0
PRODID:SchoolNow
CALSCALE:GREGORIAN
BEGIN:VEVENT
UID:5c54d300-9b29-11ec-b1b3-0afcddde3cd5
DTSTAMP:20220303T193728Z
SUMMARY:2nd Gr Field Trip
LOCATION:Chicago Botanic Garden\, 1000 Lake Cook Rd\, Glencoe\, IL 60022\, 
 USA
URL;VALUE=URI:https://www.op97.org/beye/calendar/3123540/2nd-gr-field-trip
DTSTART;VALUE=DATE:20220503
DTEND;VALUE=DATE:20220504
END:VEVENT
END:VCALENDAR
