BEGIN:VCALENDAR
VERSION:2.0
PRODID:SchoolNow
CALSCALE:GREGORIAN
BEGIN:VEVENT
UID:3673590e-9e2b-11ec-b564-0e4844a363b1
DTSTAMP:20220307T152817Z
SUMMARY:(Beye) Reading Olympics
URL;VALUE=URI:https://www.op97.org/beye/calendar/3126402/beye-reading-olymp
 ics
DTSTART;VALUE=DATE:20220421
DTEND;VALUE=DATE:20220422
END:VEVENT
END:VCALENDAR
