BEGIN:VCALENDAR
VERSION:2.0
PRODID:SchoolNow
CALSCALE:GREGORIAN
BEGIN:VEVENT
UID:532d089c-9e2b-11ec-a1fb-0e4844a363b1
DTSTAMP:20220307T152905Z
SUMMARY:(District) Reading Olympics
URL;VALUE=URI:https://www.op97.org/beye/calendar/3126403/district-reading-o
 lympics
DTSTART;VALUE=DATE:20220426
DTEND;VALUE=DATE:20220427
END:VEVENT
END:VCALENDAR
