BEGIN:VCALENDAR
VERSION:2.0
PRODID:SchoolNow
CALSCALE:GREGORIAN
BEGIN:VEVENT
UID:32ae85e8-a08b-11ec-8aef-0a20afbfe545
DTSTAMP:20220310T160025Z
SUMMARY:Virtual Chat with Mrs Sullivan
URL;VALUE=URI:https://www.op97.org/beye/calendar/3129527/virtual-chat-with-
 mrs-sullivan
DTSTART:20220311T141500Z
DTEND:20220311T150000Z
END:VEVENT
END:VCALENDAR
