BEGIN:VCALENDAR
VERSION:2.0
PRODID:SchoolNow
CALSCALE:GREGORIAN
BEGIN:VEVENT
UID:aec7db4c-a08c-11ec-97cf-02a826504e09
DTSTAMP:20220310T161102Z
SUMMARY:5th Gr Outdoor Ed Trip
LOCATION:Barrie Park\, 1011 S Lombard Ave\, Oak Park\, IL 60304\, USA
URL;VALUE=URI:https://www.op97.org/beye/calendar/3129529/5th-gr-outdoor-ed-
 trip
DTSTART:20220321T140000Z
DTEND:20220321T190000Z
END:VEVENT
END:VCALENDAR
