BEGIN:VCALENDAR
VERSION:2.0
PRODID:SchoolNow
CALSCALE:GREGORIAN
BEGIN:VEVENT
UID:89ce4dce-a08e-11ec-a19d-0ea7a23b4d19
DTSTAMP:20220310T162419Z
SUMMARY:3rd Gr Field Trip
LOCATION:Shedd Aquarium\, 1200 S DuSable Lake Shore Dr\, Chicago\, IL 60605
 \, USA
URL;VALUE=URI:https://www.op97.org/beye/calendar/3129534/3rd-gr-field-trip
DTSTART;VALUE=DATE:20220418
DTEND;VALUE=DATE:20220419
END:VEVENT
END:VCALENDAR
