BEGIN:VCALENDAR
VERSION:2.0
PRODID:SchoolNow
CALSCALE:GREGORIAN
BEGIN:VEVENT
UID:215888a4-a45d-11ec-9896-0aa74e9a053b
DTSTAMP:20220315T124044Z
SUMMARY:1st Gr Field Trip
LOCATION:Stahl Family Theatre\, 5900 W Belmont Ave\, Chicago\, IL 60634\, U
 SA
URL;VALUE=URI:https://www.op97.org/beye/calendar/3133635/1st-gr-field-trip
DTSTART:20220422T143000Z
DTEND:20220422T170000Z
END:VEVENT
END:VCALENDAR
