BEGIN:VCALENDAR
VERSION:2.0
PRODID:SchoolNow
CALSCALE:GREGORIAN
BEGIN:VEVENT
UID:2b9bda1a-a470-11ec-80b7-0edce04e4fa5
DTSTAMP:20220315T145701Z
SUMMARY:3rd Gr Field Trip
LOCATION:The Grove\, 1421 Milwaukee Ave\, Glenview\, IL 60025\, USA
URL;VALUE=URI:https://www.op97.org/beye/calendar/3133677/3rd-gr-field-trip
DTSTART:20220513T140000Z
DTEND:20220513T194500Z
END:VEVENT
END:VCALENDAR
