BEGIN:VCALENDAR
VERSION:2.0
PRODID:SchoolNow
CALSCALE:GREGORIAN
BEGIN:VEVENT
UID:881e1ddc-a544-11ec-9216-0e68dca2aadd
DTSTAMP:20220316T161710Z
SUMMARY:Beye School Fun Run
URL;VALUE=URI:https://www.op97.org/beye/calendar/3134877/beye-school-fun-ru
 n
DTSTART;VALUE=DATE:20220506
DTEND;VALUE=DATE:20220507
END:VEVENT
END:VCALENDAR
