BEGIN:VCALENDAR
VERSION:2.0
PRODID:SchoolNow
CALSCALE:GREGORIAN
BEGIN:VEVENT
UID:d06d0064-a655-11ec-9938-0a87158f1259
DTSTAMP:20220318T005324Z
SUMMARY:1st Gr Field Trip
LOCATION:Hillside Bowl\, 4545 Harrison St\, Hillside\, IL 60162\, USA
URL;VALUE=URI:https://www.op97.org/beye/calendar/3136311/1st-gr-field-trip
DTSTART:20220520T143000Z
DTEND:20220520T170000Z
END:VEVENT
END:VCALENDAR
