BEGIN:VCALENDAR
VERSION:2.0
PRODID:SchoolNow
CALSCALE:GREGORIAN
BEGIN:VEVENT
UID:ba7baccc-aaad-11ec-b38a-029efa3fa2e3
DTSTAMP:20220323T133247Z
SUMMARY:Beye School Talent Show
URL;VALUE=URI:https://www.op97.org/beye/calendar/3140464/beye-school-talent
 -show
DTSTART:20220427T230000Z
DTEND:20220428T010000Z
END:VEVENT
END:VCALENDAR
