BEGIN:VCALENDAR
VERSION:2.0
PRODID:SchoolNow
CALSCALE:GREGORIAN
BEGIN:VEVENT
UID:93ec7e66-ab7e-11ec-a8d4-0a0c86294fad
DTSTAMP:20220324T142747Z
SUMMARY:4th Gr Field Trip
LOCATION:Frank Lloyd Wright Home & Studio\, 951 Chicago Ave\, Oak Park\, IL
  60302\, USA
URL;VALUE=URI:https://www.op97.org/beye/calendar/3141183/4th-gr-field-trip
DTSTART:20220420T121500Z
DTEND:20220420T190000Z
END:VEVENT
END:VCALENDAR
