BEGIN:VCALENDAR
VERSION:2.0
PRODID:SchoolNow
CALSCALE:GREGORIAN
BEGIN:VEVENT
UID:2482423a-b458-11ec-987f-02c3789de54f
DTSTAMP:20220404T204520Z
SUMMARY:4th Gr Field Trip
LOCATION:Chicago Symphony Orchestra\, 220 S Michigan Ave\, Chicago\, IL 606
 04\, USA
URL;VALUE=URI:https://www.op97.org/beye/calendar/3153338/4th-gr-field-trip
DTSTART:20220514T040000Z
DTEND:20220514T190000Z
END:VEVENT
END:VCALENDAR
