BEGIN:VCALENDAR
VERSION:2.0
PRODID:SchoolNow
CALSCALE:GREGORIAN
BEGIN:VEVENT
UID:82459576-c24e-11ec-a8ba-0aeb61cd2a03
DTSTAMP:20220422T151139Z
SUMMARY:2nd Gr Field Trip
LOCATION:Lincoln Park Zoo\, 2001 N Clark St\, Chicago\, IL 60614\, USA
URL;VALUE=URI:https://www.op97.org/beye/calendar/3177970/2nd-gr-field-trip
DTSTART:20220524T140000Z
DTEND:20220524T184500Z
END:VEVENT
END:VCALENDAR
