BEGIN:VCALENDAR
VERSION:2.0
PRODID:SchoolNow
CALSCALE:GREGORIAN
BEGIN:VEVENT
UID:92497892-c24f-11ec-9d9a-0a0e4932e06d
DTSTAMP:20220422T151915Z
SUMMARY:5th Gr Field Trip
LOCATION:Field Museum\, 1400 S Lake Shore Dr\, Chicago\, IL 60605\, USA
URL;VALUE=URI:https://www.op97.org/beye/calendar/3177980/5th-gr-field-trip
DTSTART:20220517T140000Z
DTEND:20220517T191500Z
END:VEVENT
END:VCALENDAR
