BEGIN:VCALENDAR
VERSION:2.0
PRODID:SchoolNow
CALSCALE:GREGORIAN
BEGIN:VEVENT
UID:4719faa8-c250-11ec-814e-0a0e4932e06d
DTSTAMP:20220422T152418Z
SUMMARY:(Beye) All School End of Year Picnic
LOCATION:Outdoors at Beye School
URL;VALUE=URI:https://www.op97.org/beye/calendar/3177981/beye-all-school-en
 d-of-year-picnic
DTSTART:20220603T220000Z
DTEND:20220604T010000Z
END:VEVENT
END:VCALENDAR
