BEGIN:VCALENDAR
VERSION:2.0
PRODID:SchoolNow
CALSCALE:GREGORIAN
BEGIN:VEVENT
UID:8b091564-c250-11ec-b864-0a0e4932e06d
DTSTAMP:20220422T152612Z
SUMMARY:Bobcat Bolt (Fun Run)
URL;VALUE=URI:https://www.op97.org/beye/calendar/3177982/bobcat-bolt-fun-ru
 n
DTSTART:20220506T133000Z
DTEND:20220506T193000Z
END:VEVENT
END:VCALENDAR
