BEGIN:VCALENDAR
VERSION:2.0
PRODID:SchoolNow
CALSCALE:GREGORIAN
BEGIN:VEVENT
UID:ae0de490-c250-11ec-a31a-0a0e4932e06d
DTSTAMP:20220422T152711Z
SUMMARY:(Beye) Community Meet-Up
URL;VALUE=URI:https://www.op97.org/beye/calendar/3177983/beye-community-mee
 t-up
DTSTART:20220430T133000Z
DTEND:20220430T150000Z
END:VEVENT
END:VCALENDAR
