BEGIN:VCALENDAR
VERSION:2.0
PRODID:SchoolNow
CALSCALE:GREGORIAN
BEGIN:VEVENT
UID:44c1d744-d2e0-11ec-a68e-0ad128c59c5f
DTSTAMP:20220513T171520Z
SUMMARY:4 Smith/Hosler FT
LOCATION:Oak Park River Forest Museum\, 129 Lake St\, Oak Park\, IL 60302\,
  USA
URL;VALUE=URI:https://www.op97.org/beye/calendar/3199012/4-smith-hosler-ft
DTSTART:20220519T180000Z
DTEND:20220519T193000Z
END:VEVENT
END:VCALENDAR
