BEGIN:VCALENDAR
VERSION:2.0
PRODID:SchoolNow
CALSCALE:GREGORIAN
BEGIN:VEVENT
UID:5fb5dfd6-d570-11ec-8b1b-0a9be289f199
DTSTAMP:20220516T233156Z
SUMMARY:Tribute To Excellence Event
URL;VALUE=URI:https://www.op97.org/beye/calendar/3199946/tribute-to-excelle
 nce-event
DTSTART:20220601T131000Z
DTEND:20220601T141000Z
END:VEVENT
END:VCALENDAR
