BEGIN:VCALENDAR
VERSION:2.0
PRODID:SchoolNow
CALSCALE:GREGORIAN
BEGIN:VEVENT
UID:a104bee4-d570-11ec-ad0d-0a9be289f199
DTSTAMP:20220516T233345Z
SUMMARY:5th Grade Event
URL;VALUE=URI:https://www.op97.org/beye/calendar/3199947/5th-grade-event
DTSTART:20220606T230000Z
DTEND:20220607T010000Z
END:VEVENT
END:VCALENDAR
