BEGIN:VCALENDAR
VERSION:2.0
PRODID:SchoolNow
CALSCALE:GREGORIAN
BEGIN:VEVENT
UID:9e6da398-e8e0-11ec-83fa-02d5e7e31a7d
DTSTAMP:20220610T171316Z
SUMMARY:Back to School Picnic
URL;VALUE=URI:https://www.op97.org/beye/calendar/3217126/back-to-school-pic
 nic
DTSTART:20220826T220000Z
DTEND:20220827T010000Z
END:VEVENT
END:VCALENDAR
