BEGIN:VCALENDAR
VERSION:2.0
PRODID:SchoolNow
CALSCALE:GREGORIAN
BEGIN:VEVENT
UID:3df8f5ce-ec20-11ec-bda4-02f7a0dded9d
DTSTAMP:20220624T155249Z
SUMMARY:Institute Day - No School
URL;VALUE=URI:https://www.op97.org/beye/calendar/3219524/institute-day-no-s
 chool
DTSTART;VALUE=DATE:20220822
DTEND;VALUE=DATE:20220823
END:VEVENT
END:VCALENDAR
