BEGIN:VCALENDAR
VERSION:2.0
PRODID:SchoolNow
CALSCALE:GREGORIAN
BEGIN:VEVENT
UID:b7073ff0-ec27-11ec-854e-0a6dcd18b0af
DTSTAMP:20220624T155212Z
SUMMARY:D97 Schools/Offices Closed
URL;VALUE=URI:https://www.op97.org/beye/calendar/3219603/district-closed
DTSTART;VALUE=DATE:20220926
DTEND;VALUE=DATE:20220927
END:VEVENT
END:VCALENDAR
