BEGIN:VCALENDAR
VERSION:2.0
PRODID:SchoolNow
CALSCALE:GREGORIAN
BEGIN:VEVENT
UID:dccc5cfa-f309-11ec-bbe6-0a30c8de4f4d
DTSTAMP:20221026T143923Z
SUMMARY:Family/Teacher Conferences - Half Day (AM Only)
URL;VALUE=URI:https://www.op97.org/beye/calendar/3229572/parent-teacher-con
 ferences-half-day-am-only-102121-clone-clone
DTSTART;VALUE=DATE:20221028
DTEND;VALUE=DATE:20221029
END:VEVENT
END:VCALENDAR
