BEGIN:VCALENDAR
VERSION:2.0
PRODID:SchoolNow
CALSCALE:GREGORIAN
BEGIN:VEVENT
UID:f5f60abe-f309-11ec-af62-0a30c8de4f4d
DTSTAMP:20220624T155335Z
SUMMARY:Election Day - D97 Schools/Offices Closed
URL;VALUE=URI:https://www.op97.org/beye/calendar/3229583/no-school-election
 -day
DTSTART;VALUE=DATE:20221108
DTEND;VALUE=DATE:20221109
END:VEVENT
END:VCALENDAR
