BEGIN:VCALENDAR
VERSION:2.0
PRODID:SchoolNow
CALSCALE:GREGORIAN
BEGIN:VEVENT
UID:10d2f46e-f30a-11ec-b7f3-0a30c8de4f4d
DTSTAMP:20220623T153509Z
SUMMARY:1st Trimester Ends
URL;VALUE=URI:https://www.op97.org/beye/calendar/3229593/1st-trimester-ends
 -111921-clone
DTSTART;VALUE=DATE:20221122
DTEND;VALUE=DATE:20221123
END:VEVENT
END:VCALENDAR
