BEGIN:VCALENDAR
VERSION:2.0
PRODID:SchoolNow
CALSCALE:GREGORIAN
BEGIN:VEVENT
UID:5628886c-f30a-11ec-93bd-0a30c8de4f4d
DTSTAMP:20221223T204807Z
SUMMARY:Winter Break - No School
URL;VALUE=URI:https://www.op97.org/beye/calendar/3229613/winter-break-no-sc
 hool
DTSTART;VALUE=DATE:20221222
DTEND;VALUE=DATE:20230106
END:VEVENT
END:VCALENDAR
