BEGIN:VCALENDAR
VERSION:2.0
PRODID:SchoolNow
CALSCALE:GREGORIAN
BEGIN:VEVENT
UID:70cecfe6-f30a-11ec-8be1-0a30c8de4f4d
DTSTAMP:20220623T153750Z
SUMMARY:Institute Day - No School
URL;VALUE=URI:https://www.op97.org/beye/calendar/3229624/teacher-institute-
 dayno-school-110221-clone
DTSTART;VALUE=DATE:20230106
DTEND;VALUE=DATE:20230107
END:VEVENT
END:VCALENDAR
