BEGIN:VCALENDAR
VERSION:2.0
PRODID:SchoolNow
CALSCALE:GREGORIAN
BEGIN:VEVENT
UID:0e098224-f30b-11ec-91fa-0a30c8de4f4d
DTSTAMP:20230224T184942Z
SUMMARY:Presidents Day - D97 Schools/Offices Closed
URL;VALUE=URI:https://www.op97.org/beye/calendar/3229666/presidents-day-d97
 -schools-offices-closed
DTSTART;VALUE=DATE:20230220
DTEND;VALUE=DATE:20230221
END:VEVENT
END:VCALENDAR
