BEGIN:VCALENDAR
VERSION:2.0
PRODID:SchoolNow
CALSCALE:GREGORIAN
BEGIN:VEVENT
UID:e55ced6a-f30b-11ec-a143-0a30c8de4f4d
DTSTAMP:20220623T154815Z
SUMMARY:3rd Trimester Ends
URL;VALUE=URI:https://www.op97.org/beye/calendar/3229736/3rd-trimester-ends
 -060722-clone
DTSTART;VALUE=DATE:20230609
DTEND;VALUE=DATE:20230610
END:VEVENT
END:VCALENDAR
