BEGIN:VCALENDAR
VERSION:2.0
PRODID:SchoolNow
CALSCALE:GREGORIAN
BEGIN:VEVENT
UID:fc78f25a-f30b-11ec-9a38-0a30c8de4f4d
DTSTAMP:20220623T154854Z
SUMMARY:Juneteenth - D97 Schools/Offices Closed
URL;VALUE=URI:https://www.op97.org/beye/calendar/3229746/juneteenth-distric
 t-97-closed-clone
DTSTART;VALUE=DATE:20230619
DTEND;VALUE=DATE:20230620
END:VEVENT
END:VCALENDAR
