BEGIN:VCALENDAR
VERSION:2.0
PRODID:SchoolNow
CALSCALE:GREGORIAN
BEGIN:VEVENT
UID:06282086-2eb8-11ed-9b1b-0adfb278208b
DTSTAMP:20220907T141903Z
SUMMARY:Beye School Community Meeting
LOCATION:Beye School Library
URL;VALUE=URI:https://www.op97.org/beye/calendar/3356881/beye-school-commun
 ity-meeting
DTSTART:20220915T000000Z
DTEND:20220915T010000Z
END:VEVENT
END:VCALENDAR
