BEGIN:VCALENDAR
VERSION:2.0
PRODID:SchoolNow
CALSCALE:GREGORIAN
BEGIN:VEVENT
UID:2cef27c8-2eb8-11ed-9f86-0adfb278208b
DTSTAMP:20220907T183103Z
SUMMARY:Beye School Community Meeting
URL;VALUE=URI:https://www.op97.org/beye/calendar/3356883/beye-school-commun
 ity-meeting
DTSTART:20221112T150000Z
DTEND:20221112T160000Z
END:VEVENT
END:VCALENDAR
