BEGIN:VCALENDAR
VERSION:2.0
PRODID:SchoolNow
CALSCALE:GREGORIAN
BEGIN:VEVENT
UID:4a87dc12-2eb8-11ed-8776-0adfb278208b
DTSTAMP:20220907T142057Z
SUMMARY:Beye School Community Meeting
LOCATION:Beye School Library
URL;VALUE=URI:https://www.op97.org/beye/calendar/3356899/beye-school-commun
 ity-meeting
DTSTART:20230112T010000Z
DTEND:20230112T020000Z
END:VEVENT
END:VCALENDAR
