BEGIN:VCALENDAR
VERSION:2.0
PRODID:SchoolNow
CALSCALE:GREGORIAN
BEGIN:VEVENT
UID:605e6fc4-2eb8-11ed-b825-0adfb278208b
DTSTAMP:20220907T183153Z
SUMMARY:Beye School Community Meeting
URL;VALUE=URI:https://www.op97.org/beye/calendar/3356901/beye-school-commun
 ity-meeting
DTSTART:20230318T140000Z
DTEND:20230318T150000Z
END:VEVENT
END:VCALENDAR
