BEGIN:VCALENDAR
VERSION:2.0
PRODID:SchoolNow
CALSCALE:GREGORIAN
BEGIN:VEVENT
UID:a17056de-2f04-11ed-81e0-0e6816343885
DTSTAMP:20220907T232725Z
SUMMARY:5th Gr Field Trip
LOCATION:Harris Theater for Music and Dance\, 205 E Randolph St\, Chicago\,
  IL 60601\, USA
URL;VALUE=URI:https://www.op97.org/beye/calendar/3359264/5th-gr-field-trip
DTSTART:20220930T140000Z
DTEND:20220930T164500Z
END:VEVENT
END:VCALENDAR
