BEGIN:VCALENDAR
VERSION:2.0
PRODID:SchoolNow
CALSCALE:GREGORIAN
BEGIN:VEVENT
UID:79d62a5a-3075-11ed-bd46-0271b22b519d
DTSTAMP:20220909T192743Z
SUMMARY:5th Gr Field Trip
LOCATION:Field Museum\, 1400 S Lake Shore Dr\, Chicago\, IL 60605\, USA
URL;VALUE=URI:https://www.op97.org/beye/calendar/3368048/5th-gr-field-trip
DTSTART:20221018T140000Z
DTEND:20221018T191500Z
END:VEVENT
END:VCALENDAR
