BEGIN:VCALENDAR
VERSION:2.0
PRODID:SchoolNow
CALSCALE:GREGORIAN
BEGIN:VEVENT
UID:bb2c2234-3075-11ed-8192-0271b22b519d
DTSTAMP:20220909T192932Z
SUMMARY:5th Gr Field Trip
LOCATION:DuSable Black History Museum and Education Center\, 740 E 56th Pl\
 , Chicago\, IL 60637\, USA
URL;VALUE=URI:https://www.op97.org/beye/calendar/3368049/5th-gr-field-trip
DTSTART:20221111T160000Z
DTEND:20221111T200000Z
END:VEVENT
END:VCALENDAR
