BEGIN:VCALENDAR
VERSION:2.0
PRODID:SchoolNow
CALSCALE:GREGORIAN
BEGIN:VEVENT
UID:fc063c7c-3075-11ed-b3d5-0271b22b519d
DTSTAMP:20221019T154726Z
SUMMARY:5th Gr Field Trip
LOCATION:Museum of Science and Industry\, Chicago\, 5700 S DuSable Lake Sho
 re Dr.\, Chicago\, IL 60637\, USA
URL;VALUE=URI:https://www.op97.org/beye/calendar/3368050/5th-gr-field-trip
DTSTART:20221208T150000Z
DTEND:20221208T200000Z
END:VEVENT
END:VCALENDAR
