BEGIN:VCALENDAR
VERSION:2.0
PRODID:SchoolNow
CALSCALE:GREGORIAN
BEGIN:VEVENT
UID:8954caa6-4333-11ed-8997-02402e1af6af
DTSTAMP:20221003T155334Z
SUMMARY:5th Gr Outdoor Ed Trip
LOCATION:Loredo Taft Field Campus\, 1414 N River Rd\, Oregon\, IL
URL;VALUE=URI:https://www.op97.org/beye/calendar/3476598/5th-gr-outdoor-ed-
 trip
DTSTART:20221121T150000Z
DTEND:20221122T020000Z
END:VEVENT
END:VCALENDAR
