BEGIN:VCALENDAR
VERSION:2.0
PRODID:SchoolNow
CALSCALE:GREGORIAN
BEGIN:VEVENT
UID:d48280d6-442d-11ed-8e47-0eaa6fd2baab
DTSTAMP:20221004T214514Z
SUMMARY:Beye School Reading Olympics
LOCATION:Beye School Auditorium
URL;VALUE=URI:https://www.op97.org/beye/calendar/3482524/beye-school-readin
 g-olympics
DTSTART:20221201T190000Z
DTEND:20221201T200000Z
END:VEVENT
END:VCALENDAR
