BEGIN:VCALENDAR
VERSION:2.0
PRODID:SchoolNow
CALSCALE:GREGORIAN
BEGIN:VEVENT
UID:f07355c0-4fc4-11ed-a4cf-0ad44ea0d653
DTSTAMP:20221019T154438Z
SUMMARY:1st Gr Field Trip
LOCATION:Stahl Family Theatre\, 5900 W Belmont Ave\, Chicago\, IL 60634\, U
 SA
URL;VALUE=URI:https://www.op97.org/beye/calendar/3540665/1st-gr-field-trip
DTSTART:20221118T160000Z
DTEND:20221118T180000Z
END:VEVENT
END:VCALENDAR
