BEGIN:VCALENDAR
VERSION:2.0
PRODID:SchoolNow
CALSCALE:GREGORIAN
BEGIN:VEVENT
UID:c61af340-4fc5-11ed-98bc-0ad44ea0d653
DTSTAMP:20221019T155036Z
SUMMARY:4th Gr Field Trip
LOCATION:Chicago Symphony Orchestra\, 220 S Michigan Ave\, Chicago\, IL 606
 04\, USA
URL;VALUE=URI:https://www.op97.org/beye/calendar/3540667/4th-gr-field-trip
DTSTART:20221118T150000Z
DTEND:20221118T180000Z
END:VEVENT
END:VCALENDAR
